BEGIN:VCALENDAR
VERSION:2.0
PRODID:-//ChamberMaster//Event Calendar 2.0//EN
METHOD:PUBLISH
X-PUBLISHED-TTL:P3D
REFRESH-INTERVAL:P3D
CALSCALE:GREGORIAN
BEGIN:VEVENT
DTSTART:20180720T143000Z
DTEND:20180720T160000Z
X-MICROSOFT-CDO-ALLDAYEVENT:FALSE
SUMMARY:Breakfast Business Connection
DESCRIPTION:Breakfast Business Connection\n\nSenior Scams\n\nPresented by Ted Burnett\, Orange County District Attorney's Office\n\nSponsored by Caroline Witham\, Realtor
X-ALT-DESC;FMTTYPE=text/html:<span style="font-size:18px\;"><strong>Breakfast Business Connection<br />\nSenior Scams</strong></span><br />\n<span style="color: rgb(0\, 0\, 0)\; cursor: text\; font-family: sans-serif\; font-variant-numeric: normal\; font-variant-east-asian: normal\; white-space: pre-wrap\; word-wrap: break-word\;">Presented by Ted Burnett\, Orange County District Attorney&#39\;s Office</span><br />\n<span style="font-size:18px\;"><span style="font-size:14px\;"><em>Sponsored by Caroline Witham\, Realtor</em></span></span>
LOCATION:Ozzie's Sports Bar & Lounge in Fountain Bowl 17110 Brookhurst St. Fountain Valley
UID:e.2030.3899
SEQUENCE:3
DTSTAMP:20260423T233501Z
URL:http://business.fvchamber.com/events/details/breakfast-business-connection-07-20-2018-3899
END:VEVENT

END:VCALENDAR
