BEGIN:VCALENDAR
VERSION:2.0
PRODID:-//ChamberMaster//Event Calendar 2.0//EN
METHOD:PUBLISH
X-PUBLISHED-TTL:P3D
REFRESH-INTERVAL:P3D
CALSCALE:GREGORIAN
BEGIN:VEVENT
DTSTART:20160715T143000Z
DTEND:20160715T160000Z
X-MICROSOFT-CDO-ALLDAYEVENT:FALSE
SUMMARY:Breakfast Business Connection
DESCRIPTION:Breakfast Business Connection\n\nSponsored by Kiff Crandall\, Robertson & Olsen\, LLP\n\nJohn Wayne Airport Update presented by Deanne Thompson\n\nCity  of Fountain Valley Finance Department Update
X-ALT-DESC;FMTTYPE=text/html:<div><span style="font-size:18px\;"><strong>Breakfast Business Connection</strong></span></div>\n\n<div><span style="font-size:18px\;"><strong><span style="font-size:14px\;"><em>Sponsored by Kiff Crandall\, Robertson &amp\; Olsen\, LLP</em><br />\nJohn Wayne Airport Update presented by Deanne Thompson</span></strong><br />\n<span style="font-size:12px\;">City&nbsp\; of Fountain Valley Finance Department Update</span></span></div>\n\n<div>&nbsp\;</div>\n
LOCATION:Please note the change in venue for July: The Center at Founders Village 17967 Bushard Street Fountain Valley Catering by Chef Marla McGee
UID:e.2030.2386
SEQUENCE:3
DTSTAMP:20260425T124742Z
URL:http://business.fvchamber.com/events/details/breakfast-business-connection-07-15-2016-2386
END:VEVENT

END:VCALENDAR
