BEGIN:VCALENDAR
VERSION:2.0
PRODID:-//ChamberMaster//Event Calendar 2.0//EN
METHOD:PUBLISH
X-PUBLISHED-TTL:P3D
REFRESH-INTERVAL:P3D
CALSCALE:GREGORIAN
BEGIN:VEVENT
DTSTART:20180615T143000Z
DTEND:20180615T160000Z
X-MICROSOFT-CDO-ALLDAYEVENT:FALSE
SUMMARY:Breakfast Business Connection
DESCRIPTION:Breakfast Business Connection\n\n"Fountain Valley Town Hall - Meet the Local City Council Candidates"\n\nSponsored by Elwyn California
X-ALT-DESC;FMTTYPE=text/html:<span style="font-size:18px\;"><strong>Breakfast Business Connection</strong></span><br />\n<span style="font-size:14px\;">&quot\;Fountain Valley Town Hall - Meet the Local City Council Candidates&quot\;</span><br />\n<span style="font-size:18px\;"><span style="font-size:14px\;"><em>Sponsored by Elwyn California</em></span></span>
LOCATION:The Center at Founders Village Room C 17967 Bushard St. Fountain Valley
UID:e.2030.3898
SEQUENCE:3
DTSTAMP:20260423T234257Z
URL:http://business.fvchamber.com/events/details/breakfast-business-connection-06-15-2018-3898
END:VEVENT

END:VCALENDAR
