BEGIN:VCALENDAR
VERSION:2.0
PRODID:-//ChamberMaster//Event Calendar 2.0//EN
METHOD:PUBLISH
X-PUBLISHED-TTL:P3D
REFRESH-INTERVAL:P3D
CALSCALE:GREGORIAN
BEGIN:VEVENT
DTSTART:20160520T143000Z
DTEND:20160520T160000Z
X-MICROSOFT-CDO-ALLDAYEVENT:FALSE
SUMMARY:Breakfast Business Connection
DESCRIPTION:Breakfast Business Connection\n\nVideo Tape Presentation by Assemblyman Travis Allen\n\nCity of Fountain Valley Public Works Update\n\nSponsored by JMS Technical Solutions
X-ALT-DESC;FMTTYPE=text/html:<div><span style="font-size:18px\;"><strong>Breakfast Business Connection<br />\n<span style="font-size:14px\;">Video Tape Presentation by Assemblyman Travis Allen</span></strong><br />\n<span style="font-size:12px\;">City of Fountain Valley Public Works Update<br />\n<em><span style="font-size:16px\;"><strong>Sponsored by JMS Technical Solutions</strong></span></em></span></span></div>\n\n<div>&nbsp\;</div>\n
LOCATION:Ayres Hotel FV 17550 Brookhurst Street Fountain Valley
UID:e.2030.2384
SEQUENCE:3
DTSTAMP:20260425T141535Z
URL:http://business.fvchamber.com/events/details/breakfast-business-connection-05-20-2016-2384
END:VEVENT

END:VCALENDAR
