BEGIN:VCALENDAR
VERSION:2.0
PRODID:-//ChamberMaster//Event Calendar 2.0//EN
METHOD:PUBLISH
X-PUBLISHED-TTL:P3D
REFRESH-INTERVAL:P3D
CALSCALE:GREGORIAN
BEGIN:VEVENT
DTSTART:20180420T143000Z
DTEND:20180420T160000Z
X-MICROSOFT-CDO-ALLDAYEVENT:FALSE
SUMMARY:Breakfast Business Connection
DESCRIPTION:Breakfast Business Connection\n\nCity Manager Update\n\npresented by Rob Houston\, FV City Manager\n\nSponsored by Prana Health Chiropractic
X-ALT-DESC;FMTTYPE=text/html:<span style="font-size:18px\;"><strong>Breakfast Business Connection<br />\n<span style="font-size:16px\;">City Manager Update<br />\n<span style="font-size:14px\;"><em>presented by Rob Houston\, FV City Manager</em></span></span></strong><br />\n<span style="font-size:16px\;"><em>Sponsored by Prana Health Chiropractic</em></span></span>
LOCATION:Ayres Hotel Fountain Valley 17550 Brookhurst St. Fountain Valley
UID:e.2030.3896
SEQUENCE:3
DTSTAMP:20260424T021735Z
URL:http://business.fvchamber.com/events/details/breakfast-business-connection-04-20-2018-3896
END:VEVENT

END:VCALENDAR
