BEGIN:VCALENDAR
VERSION:2.0
PRODID:-//ChamberMaster//Event Calendar 2.0//EN
METHOD:PUBLISH
X-PUBLISHED-TTL:P3D
REFRESH-INTERVAL:P3D
CALSCALE:GREGORIAN
BEGIN:VEVENT
DTSTART:20160415T143000Z
DTEND:20160415T160000Z
X-MICROSOFT-CDO-ALLDAYEVENT:FALSE
SUMMARY:Breakfast Business Connection
DESCRIPTION:Breakfast Business Connection\n\nOrange County Water District Update\n\nPresented by John Kennedy\n\nCity of FV Community Services Update\n\nSponsored by Don Gay Insurance
X-ALT-DESC;FMTTYPE=text/html:<div><span style="font-size:18px\;"><strong>Breakfast Business Connection</strong></span></div>\n\n<div><span style="font-size:16px\;"><strong>Orange County Water District Update</strong></span><br />\n<em>Presented by John Kennedy</em><br />\nCity of FV Community Services Update<br />\n<em><span style="font-size:16px\;"><strong>Sponsored by Don Gay Insurance</strong></span></em></div>\n\n<div>&nbsp\;</div>\n
LOCATION:Ayres Hotel FV 17550 Brookhurst Street Fountain Valley
UID:e.2030.2383
SEQUENCE:3
DTSTAMP:20260425T154700Z
URL:http://business.fvchamber.com/events/details/breakfast-business-connection-04-15-2016-2383
END:VEVENT

END:VCALENDAR
