BEGIN:VCALENDAR
VERSION:2.0
PRODID:-//ChamberMaster//Event Calendar 2.0//EN
METHOD:PUBLISH
X-PUBLISHED-TTL:P3D
REFRESH-INTERVAL:P3D
CALSCALE:GREGORIAN
BEGIN:VEVENT
DTSTART:20160318T143000Z
DTEND:20160318T160000Z
X-MICROSOFT-CDO-ALLDAYEVENT:FALSE
SUMMARY:Breakfast Business Connection
DESCRIPTION:Breakfast Business Connection\n\nSponsored by Brian Genovese\, Keller Williams Realty\n\nSpeaker: Senator Janet Nguyen
X-ALT-DESC;FMTTYPE=text/html:<div><span style="font-size:18px\;"><strong>Breakfast Business Connection</strong></span></div>\n\n<div>Sponsored by Brian Genovese\, Keller Williams Realty<br />\nSpeaker: Senator Janet Nguyen</div>\n\n<div>&nbsp\;</div>\n\n<div>&nbsp\;</div>\n
LOCATION:Ayres Hotel FV 17550 Brookhurst Street Fountain Valley
UID:e.2030.2382
SEQUENCE:3
DTSTAMP:20260425T172357Z
URL:http://business.fvchamber.com/events/details/breakfast-business-connection-03-18-2016-2382
END:VEVENT

END:VCALENDAR
