BEGIN:VCALENDAR
VERSION:2.0
PRODID:-//ChamberMaster//Event Calendar 2.0//EN
METHOD:PUBLISH
X-PUBLISHED-TTL:P3D
REFRESH-INTERVAL:P3D
CALSCALE:GREGORIAN
BEGIN:VEVENT
DTSTART:20190315T143000Z
DTEND:20190315T160000Z
X-MICROSOFT-CDO-ALLDAYEVENT:FALSE
SUMMARY:Juice Up Your Morning Community Breakfast
DESCRIPTION:Juice Up Your Morning Community Breakfast\n\n~ Utility Programs & Money Saving Tips ~\n\nLearn about the latest programs & incentives from your Utility Companies\n\nBrought to you by Slater Investments
X-ALT-DESC;FMTTYPE=text/html:<span style="color:#A52A2A\;"><span style="font-size:18px\;"><strong><span style="font-family:verdana\;">Juice Up Your Morning Community Breakfast</span></strong></span></span><br />\n<font color="#ff8c00" face="comic sans ms"><span style="font-size: 18px\;"><b><i>~ Utility Programs &amp\; Money Saving Tips ~</i></b></span></font><br />\n<u><span style="font-size: 18px\;"><span style="font-family:times new roman\;"><span style="font-family:verdana\;"><span style="font-size:16px\;"><span style="color:#8B4513\;">Learn about the latest programs &amp\; incentives from your Utility Companies</span></span></span></span></span></u><br />\n<span style="font-size: 18px\;"><span style="font-family:times new roman\;"><span style="font-family:verdana\;"><span style="font-size:16px\;"><strong><span style="color:#800000\;">Brought to you by Slater Investments</span></strong></span></span></span></span>
LOCATION:Ayres Hotel 17550 Brookhurst St. Fountain Valley
UID:e.2030.3907
SEQUENCE:3
DTSTAMP:20260423T104053Z
URL:http://business.fvchamber.com/events/details/breakfast-business-connection-03-15-2019-3907
END:VEVENT

END:VCALENDAR
