BEGIN:VCALENDAR
VERSION:2.0
PRODID:-//ChamberMaster//Event Calendar 2.0//EN
METHOD:PUBLISH
X-PUBLISHED-TTL:P3D
REFRESH-INTERVAL:P3D
CALSCALE:GREGORIAN
BEGIN:VEVENT
DTSTART:20160219T153000Z
DTEND:20160219T170000Z
X-MICROSOFT-CDO-ALLDAYEVENT:FALSE
SUMMARY:Breakfast Business Connection
DESCRIPTION:Breakfast Business Connection\n\nFormerly Rise & Shine FV\, we are taking this to the next level and increasing them from quarterly to the 3rd Friday of every month. Expect dynamic speakers and updates from the City. Speaker/Sponsor opportunities are available.\n\n \n\nThe February breakfast will feature District Attorney Tony Rachauckas speaking on Gang Violence / Human Trafficking. There will also be an update from the City.\n\nSpeaker/Sponsor: Mobul\, the Home Mobility Store
X-ALT-DESC;FMTTYPE=text/html:<div><span style="font-size:18px\;"><strong>Breakfast Business Connection</strong></span></div>\n\n<div>Formerly Rise &amp\; Shine FV\, we are taking this to the next level and increasing them from quarterly to the 3rd Friday of every month. Expect dynamic speakers and updates from the City. Speaker/Sponsor opportunities are available.</div>\n\n<div>&nbsp\;</div>\n\n<div>The&nbsp\;February breakfast will feature District Attorney Tony Rachauckas speaking on Gang Violence / Human Trafficking. There will also be an update from the City.</div>\n\n<div>Speaker/Sponsor: Mobul\, the Home Mobility Store</div>\n
LOCATION:Ayres Hotel FV 17550 Brookhurst Street Fountain Valley
UID:e.2030.2381
SEQUENCE:3
DTSTAMP:20260425T185651Z
URL:http://business.fvchamber.com/events/details/breakfast-business-connection-02-19-2016-2381
END:VEVENT

END:VCALENDAR
