BEGIN:VCALENDAR
VERSION:2.0
PRODID:-//ChamberMaster//Event Calendar 2.0//EN
METHOD:PUBLISH
X-PUBLISHED-TTL:P3D
REFRESH-INTERVAL:P3D
CALSCALE:GREGORIAN
BEGIN:VEVENT
DTSTART:20180216T153000Z
DTEND:20180216T170000Z
X-MICROSOFT-CDO-ALLDAYEVENT:FALSE
SUMMARY:Breakfast Business Connection
DESCRIPTION:Breakfast Business Connection\n\n"Myths & Legends of Postcards\, Politicians & Reform"\n\npresented by Alex A. Accetta\, CPA & Patrick Harper\, CPA\n\nCity update by Fire Battalion Chief Bryan McKay\n\nSponsored by New York Life - Kathy Knight
X-ALT-DESC;FMTTYPE=text/html:<span style="font-size:18px\;"><strong>Breakfast Business Connection</strong></span><br />\n<span style="font-size: 14px\;">&quot\;Myths &amp\; Legends of Postcards\, Politicians &amp\; Reform&quot\;<br />\npresented by Alex A. Accetta\, CPA &amp\; Patrick Harper\, CPA</span><br />\n<span style="font-family:arial\,sans-serif\;"><span style="font-size:11.0pt\;">City update by Fire Battalion Chief Bryan McKay</span></span><br />\n<span style="font-size:18px\;"><span style="font-size:14px\;"><em>Sponsored by New York Life - Kathy Knight</em></span></span>
LOCATION:Ayres Hotel Fountain Valley 17550 Brookhurst St. Fountain Valley
UID:e.2030.3894
SEQUENCE:3
DTSTAMP:20260424T051337Z
URL:http://business.fvchamber.com/events/details/breakfast-business-connection-02-16-2018-3894
END:VEVENT

END:VCALENDAR
