BEGIN:VCALENDAR
VERSION:2.0
PRODID:-//ChamberMaster//Event Calendar 2.0//EN
METHOD:PUBLISH
X-PUBLISHED-TTL:P3D
REFRESH-INTERVAL:P3D
CALSCALE:GREGORIAN
BEGIN:VEVENT
DTSTART:20190215T153000Z
DTEND:20190215T170000Z
X-MICROSOFT-CDO-ALLDAYEVENT:FALSE
SUMMARY:Juice Up Your Morning Community Breakfast
DESCRIPTION:Juice Up Your Morning Community Breakfast\n\nLegislative Forum\n\n"Learn more about your newly elected officials and their offices"
X-ALT-DESC;FMTTYPE=text/html:<span style="font-size:18px\;"><strong><span style="font-size:20px\;">Juice Up Your Morning Community Breakfast</span><br />\nLegislative Forum</strong><br />\n<span style="font-size:16px\;">&quot\;Learn more about your newly elected officials and their offices&quot\;&nbsp\;</span></span>
LOCATION:Ayres Hotel 17550 Brookhurst St. Fountain Valley
UID:e.2030.3906
SEQUENCE:3
DTSTAMP:20260423T120924Z
URL:http://business.fvchamber.com/events/details/breakfast-business-connection-02-15-2019-3906
END:VEVENT

END:VCALENDAR
