BEGIN:VCALENDAR
VERSION:2.0
PRODID:-//ChamberMaster//Event Calendar 2.0//EN
METHOD:PUBLISH
X-PUBLISHED-TTL:P3D
REFRESH-INTERVAL:P3D
CALSCALE:GREGORIAN
BEGIN:VEVENT
DTSTART:20170120T153000Z
DTEND:20170120T170000Z
X-MICROSOFT-CDO-ALLDAYEVENT:FALSE
SUMMARY:Breakfast Business Connection
DESCRIPTION:Breakfast Business Connection\n\nSponsored by Health Atlast\n\nFountaini Valley School District Superintendent Dr. Mark Johnson\n\n"Kids These Days!"\n\nThere will be an update from City of Fountain Valley Administration
X-ALT-DESC;FMTTYPE=text/html:<div><span style="font-size:18px\;"><strong>Breakfast Business Connection<br />\n<em><span style="font-size:16px\;">Sponsored by Health </span>Atlast</em></strong></span></div>\n\n<div>Fountaini Valley School District Superintendent Dr. Mark Johnson<br />\n&quot\;Kids These Days!&quot\;<br />\nThere will be an update from City of Fountain Valley Administration</div>\n
LOCATION:Ayres Hotel FV 17550 Brookhurst Street Fountain Valley
UID:e.2030.2392
SEQUENCE:3
DTSTAMP:20260425T033948Z
URL:http://business.fvchamber.com/events/details/breakfast-business-connection-01-20-2017-2392
END:VEVENT

END:VCALENDAR
