BEGIN:VCALENDAR
VERSION:2.0
PRODID:-//ChamberMaster//Event Calendar 2.0//EN
METHOD:PUBLISH
X-PUBLISHED-TTL:P3D
REFRESH-INTERVAL:P3D
CALSCALE:GREGORIAN
BEGIN:VEVENT
DTSTART:20180119T153000Z
DTEND:20180119T170000Z
X-MICROSOFT-CDO-ALLDAYEVENT:FALSE
SUMMARY:Breakfast Business Connection
DESCRIPTION:Breakfast Business Connection\n\n405 Freeway Project Update by OCTA\n\n Sponsored by Farmers Insurance-Melissa Watanabe Agency
X-ALT-DESC;FMTTYPE=text/html:<span style="font-size:18px\;"><strong><em>Breakfast Business Connection</em><br />\n405 Freeway Project Update&nbsp\;by OCTA</strong><br />\n<span style="font-size:12px\;"><em>&#8203\;Sponsored by Farmers Insurance-Melissa Watanabe Agency</em></span></span>
LOCATION:Ayres Hotel 17550 Brookhurst Street Fountain Valley
UID:e.2030.3893
SEQUENCE:3
DTSTAMP:20260424T071510Z
URL:http://business.fvchamber.com/events/details/breakfast-business-connection-01-19-2018-3893
END:VEVENT

END:VCALENDAR
