BEGIN:VCALENDAR
VERSION:2.0
PRODID:-//ChamberMaster//Event Calendar 2.0//EN
METHOD:PUBLISH
X-PUBLISHED-TTL:P3D
REFRESH-INTERVAL:P3D
CALSCALE:GREGORIAN
BEGIN:VEVENT
DTSTART:20160115T153000Z
DTEND:20160115T170000Z
X-MICROSOFT-CDO-ALLDAYEVENT:FALSE
SUMMARY:Breakfast Business Connection
DESCRIPTION:Breakfast Business Connection\n\nFormerly Rise & Shine FV\, we are taking this to the next level and increasing them from quarterly to the 3rd Friday of every month. Expect dynamic speakers and updates from the City. Speaker/Sponsor opportunities are available.\n\n \n\nThe January breakfast will feature Fountain Valley Police Chief Dan Llorens speaking on "Preparing for a Terrorist Attack". There will also be an update from the City. Sponsored by LegalShield-Stacey Golden-Lisnock
X-ALT-DESC;FMTTYPE=text/html:<div><span style="font-size:18px\;"><strong>Breakfast Business Connection</strong></span></div>\n\n<div>Formerly Rise &amp\; Shine FV\, we are taking this to the next level and increasing them from quarterly to the 3rd Friday of every month. Expect dynamic speakers and updates from the City. Speaker/Sponsor opportunities are available.</div>\n\n<div>&nbsp\;</div>\n\n<div>The January breakfast will feature Fountain Valley Police Chief Dan Llorens speaking on &quot\;Preparing for a Terrorist Attack&quot\;. There will also be an update from the City. Sponsored by LegalShield-Stacey Golden-Lisnock</div>\n
LOCATION:Ayres Hotel FV 17550 Brookhurst Street Fountain Valley
UID:e.2030.2174
SEQUENCE:3
DTSTAMP:20260425T203558Z
URL:http://business.fvchamber.com/events/details/breakfast-business-connection-01-15-2016-2174
END:VEVENT

END:VCALENDAR
