BEGIN:VCALENDAR
VERSION:2.0
PRODID:-//ChamberMaster//Event Calendar 2.0//EN
METHOD:PUBLISH
X-PUBLISHED-TTL:P3D
REFRESH-INTERVAL:P3D
CALSCALE:GREGORIAN
BEGIN:VEVENT
DTSTART:20210910T170000Z
DTEND:20210910T180000Z
X-MICROSOFT-CDO-ALLDAYEVENT:FALSE
SUMMARY:Branding for Your Small Business Webinar Series
DESCRIPTION:Friday\, September 10   Class One   Branding Your Business \n\n\n	How to create your personal brand\n	What will be the tone of my brand?\n	How does my business currently compare to industry leaders?\n	Unified Branding front and regulations for use.\n	Using Freelance Graphic Artists to create your brand logo?\n\n\n \n\nFriday\, September 17- Class Two   Using Your Branding For Your Business\n\nUtilize the correct platforms for your brand efficiently and effectively. Attend this seminar and learn: \n\n\n	What platforms will be the most beneficial for my type of business?\n	How do I create a unified brand across multiple platforms? \n	What are the first items to complete once a platform has been decided upon?\n	How to unify a branding tone for your business.\n	How often should my business be posting\, and about what?\n\n\n \n\nFriday\, September 24   Class Three   Using Your Digital Branding Presence \n\nTaking your digital platforms to the marketplace\, and paying to play! Attend this seminar and learn: \n\n\n	What will be the best platform for my business to monetize advertisement on? \n	Creating a budget for individual campaigns. \n	Using insights to make educated decisions based on the data from previous posts to monetize advertisements. \n	Reviewing campaign results and interpreting them for future campaigns.
X-ALT-DESC;FMTTYPE=text/html:<p style="box-sizing: border-box\; margin: 0px 0px 20px\; color: rgb(97\, 97\, 97)\; font-size: 14px\; line-height: 1.8\; font-family: Roboto\, sans-serif\; background-color: rgb(255\, 255\, 255)\;"><span style="box-sizing: border-box\; font-weight: bolder\;">Friday\, September 10 &ndash\; Class One &ndash\; Branding Your Business&nbsp\;</span></p>\n\n<ul style="box-sizing: border-box\; margin-top: 0px\; margin-bottom: 0px\; border: 0px\; outline: 0px\; font-size: 16px\; vertical-align: baseline\; background: rgb(255\, 255\, 255)\; color: rgb(98\, 98\, 98)\; font-family: Montserrat\, -apple-system\, BlinkMacSystemFont\, &quot\;Segoe UI&quot\;\, Roboto\, sans-serif\;">\n	<li style="box-sizing: border-box\; margin-top: 0px\; margin-bottom: 0px\; border: 0px\; outline: 0px\; vertical-align: baseline\; background: transparent\;">How to create your personal brand</li>\n	<li style="box-sizing: border-box\; margin-top: 0px\; margin-bottom: 0px\; border: 0px\; outline: 0px\; vertical-align: baseline\; background: transparent\;">What will be the tone of my brand?</li>\n	<li style="box-sizing: border-box\; margin-top: 0px\; margin-bottom: 0px\; border: 0px\; outline: 0px\; vertical-align: baseline\; background: transparent\;">How does my business currently compare to industry leaders?</li>\n	<li style="box-sizing: border-box\; margin-top: 0px\; margin-bottom: 0px\; border: 0px\; outline: 0px\; vertical-align: baseline\; background: transparent\;">Unified Branding front and regulations for use.</li>\n	<li style="box-sizing: border-box\; margin-top: 0px\; margin-bottom: 0px\; border: 0px\; outline: 0px\; vertical-align: baseline\; background: transparent\;">Using Freelance Graphic Artists to create your brand logo?</li>\n</ul>\n\n<div aria-hidden="true" class="wp-block-spacer" style="box-sizing: border-box\; clear: both\; font-family: Montserrat\, -apple-system\, BlinkMacSystemFont\, &quot\;Segoe UI&quot\;\, Roboto\, sans-serif\; color: rgb(98\, 98\, 98)\; font-size: 16px\; background-color: rgb(255\, 255\, 255)\; height: 20px\;">&nbsp\;</div>\n\n<p style="box-sizing: border-box\; margin: 0px 0px 20px\; color: rgb(97\, 97\, 97)\; font-size: 14px\; line-height: 1.8\; font-family: Roboto\, sans-serif\; background-color: rgb(255\, 255\, 255)\;"><span style="box-sizing: border-box\; font-weight: bolder\;">Friday\, September 17- Class Two &ndash\; Using Your Branding For Your Business</span><br style="box-sizing: border-box\;" />\nUtilize the correct platforms for your brand efficiently and effectively. Attend this seminar and learn:&nbsp\;</p>\n\n<ul style="box-sizing: border-box\; margin-top: 0px\; margin-bottom: 0px\; border: 0px\; outline: 0px\; font-size: 16px\; vertical-align: baseline\; background: rgb(255\, 255\, 255)\; color: rgb(98\, 98\, 98)\; font-family: Montserrat\, -apple-system\, BlinkMacSystemFont\, &quot\;Segoe UI&quot\;\, Roboto\, sans-serif\;">\n	<li style="box-sizing: border-box\; margin-top: 0px\; margin-bottom: 0px\; border: 0px\; outline: 0px\; vertical-align: baseline\; background: transparent\;">What platforms will be the most beneficial for my type of business?</li>\n	<li style="box-sizing: border-box\; margin-top: 0px\; margin-bottom: 0px\; border: 0px\; outline: 0px\; vertical-align: baseline\; background: transparent\;">How do I create a unified brand across multiple platforms?&nbsp\;</li>\n	<li style="box-sizing: border-box\; margin-top: 0px\; margin-bottom: 0px\; border: 0px\; outline: 0px\; vertical-align: baseline\; background: transparent\;">What are the first items to complete once a platform has been decided upon?</li>\n	<li style="box-sizing: border-box\; margin-top: 0px\; margin-bottom: 0px\; border: 0px\; outline: 0px\; vertical-align: baseline\; background: transparent\;">How to unify a branding tone for your business.</li>\n	<li style="box-sizing: border-box\; margin-top: 0px\; margin-bottom: 0px\; border: 0px\; outline: 0px\; vertical-align: baseline\; background: transparent\;">How often should my business be posting\, and about what?</li>\n</ul>\n\n<div aria-hidden="true" class="wp-block-spacer" style="box-sizing: border-box\; clear: both\; font-family: Montserrat\, -apple-system\, BlinkMacSystemFont\, &quot\;Segoe UI&quot\;\, Roboto\, sans-serif\; color: rgb(98\, 98\, 98)\; font-size: 16px\; background-color: rgb(255\, 255\, 255)\; height: 20px\;">&nbsp\;</div>\n\n<p style="box-sizing: border-box\; margin: 0px 0px 20px\; color: rgb(97\, 97\, 97)\; font-size: 14px\; line-height: 1.8\; font-family: Roboto\, sans-serif\; background-color: rgb(255\, 255\, 255)\;"><span style="box-sizing: border-box\; font-weight: bolder\;">Friday\, September 24 &ndash\; Class Three &ndash\; Using Your Digital Branding Presence&nbsp\;</span><br style="box-sizing: border-box\;" />\nTaking your digital platforms to the marketplace\, and paying to play! Attend this seminar and learn:&nbsp\;</p>\n\n<ul style="box-sizing: border-box\; margin-top: 0px\; margin-bottom: 0px\; border: 0px\; outline: 0px\; font-size: 16px\; vertical-align: baseline\; background: rgb(255\, 255\, 255)\; color: rgb(98\, 98\, 98)\; font-family: Montserrat\, -apple-system\, BlinkMacSystemFont\, &quot\;Segoe UI&quot\;\, Roboto\, sans-serif\;">\n	<li style="box-sizing: border-box\; margin-top: 0px\; margin-bottom: 0px\; border: 0px\; outline: 0px\; vertical-align: baseline\; background: transparent\;">What will be the best platform for my business to monetize advertisement on?&nbsp\;</li>\n	<li style="box-sizing: border-box\; margin-top: 0px\; margin-bottom: 0px\; border: 0px\; outline: 0px\; vertical-align: baseline\; background: transparent\;">Creating a budget for individual campaigns.&nbsp\;</li>\n	<li style="box-sizing: border-box\; margin-top: 0px\; margin-bottom: 0px\; border: 0px\; outline: 0px\; vertical-align: baseline\; background: transparent\;">Using insights to make educated decisions based on the data from previous posts to monetize advertisements.&nbsp\;</li>\n	<li style="box-sizing: border-box\; margin-top: 0px\; margin-bottom: 0px\; border: 0px\; outline: 0px\; vertical-align: baseline\; background: transparent\;">Reviewing campaign results and interpreting them for future campaigns.&nbsp\;</li>\n</ul>\n
LOCATION:Webinar
UID:e.2030.5378
SEQUENCE:3
DTSTAMP:20260421T091834Z
URL:http://business.fvchamber.com/events/details/branding-for-your-small-business-webinar-series-5378
END:VEVENT

END:VCALENDAR
