BEGIN:VCALENDAR
VERSION:2.0
PRODID:-//ChamberMaster//Event Calendar 2.0//EN
METHOD:PUBLISH
X-PUBLISHED-TTL:P3D
REFRESH-INTERVAL:P3D
CALSCALE:GREGORIAN
BEGIN:VEVENT
DTSTART:20200311T200000Z
DTEND:20200311T213000Z
X-MICROSOFT-CDO-ALLDAYEVENT:FALSE
SUMMARY:Braille Institute Low Vision Month
DESCRIPTION:Losing vision doesn't mean giving up on your life activities\, it means learning new ways to do them.\n\n \n\nIf your vision is affecting your ability to perform daily tasks\, Braille Institute's Low Vision Rehabilitation service can help you:\n\n  Assess your personal needs.\n\n  Provide practical tips on lighting\, contrast enhancement and glare control.\n\n  Explore devices that can help you accomplish everyday tasks like reading\, watching TV and more.\n \n\nA FREE seminar for family and friends who are interested in learning about the basics of visual impairment and blindness: \n\n  Share how to be a sighted guide and skills related to assisting people who are visually impaired.\n\n  Discuss how to cope with lifestyle changes and emotional impact.
X-ALT-DESC;FMTTYPE=text/html:<div><span style="font-size:16px\;"><span style="font-family:verdana\;"><span style="color:#000080\;"><strong>Losing vision doesn&rsquo\;t mean giving up on your life activities\, it means learning new ways to do them.</strong></span></span></span></div>\n\n<div>&nbsp\;</div>\n\n<div><span style="font-size:16px\;"><span style="font-family:verdana\;"><span style="color:#000080\;"><strong>If your vision is affecting your ability to perform daily tasks\, Braille Institute&rsquo\;s Low Vision Rehabilitation service can help you:</strong></span></span></span></div>\n\n<div><span style="font-size:16px\;"><span style="font-family:verdana\;"><span style="color:#000080\;"><strong>&bull\;<span style="white-space:pre"> </span>Assess your personal needs.</strong></span></span></span></div>\n\n<div><span style="font-size:16px\;"><span style="font-family:verdana\;"><span style="color:#000080\;"><strong>&bull\;<span style="white-space:pre"> </span>Provide practical tips on lighting\, contrast enhancement and glare control.</strong></span></span></span></div>\n\n<div><span style="font-size:16px\;"><span style="font-family:verdana\;"><span style="color:#000080\;"><strong>&bull\;<span style="white-space:pre"> </span>Explore devices that can help you accomplish everyday tasks like reading\, watching TV and more.</strong></span></span></span></div>\n&nbsp\;\n\n<div><span style="font-size:16px\;"><span style="font-family:verdana\;"><span style="color:#000080\;"><strong>A FREE seminar for family and friends who are interested in learning about the basics of visual impairment and blindness:&nbsp\;</strong></span></span></span></div>\n\n<div><span style="font-size:16px\;"><span style="font-family:verdana\;"><span style="color:#000080\;"><strong>&bull\;<span style="white-space:pre"> </span>Share how to be a sighted guide and skills related to assisting people who are visually impaired.</strong></span></span></span></div>\n\n<div><span style="font-size:16px\;"><span style="font-family:verdana\;"><span style="color:#000080\;"><strong>&bull\;<span style="white-space:pre"> </span>Discuss how to cope with lifestyle changes and emotional impact.</strong></span></span></span></div>\n
LOCATION:24411 Ridge Route Dr. # 110 Laguna Hills\, CA 92653
UID:e.2030.5290
SEQUENCE:3
DTSTAMP:20260422T161620Z
URL:http://business.fvchamber.com/events/details/braille-institute-low-vision-month-5290
END:VEVENT

END:VCALENDAR
