BEGIN:VCALENDAR
VERSION:2.0
PRODID:-//ChamberMaster//Event Calendar 2.0//EN
METHOD:PUBLISH
X-PUBLISHED-TTL:P3D
REFRESH-INTERVAL:P3D
CALSCALE:GREGORIAN
BEGIN:VEVENT
DTSTART:20170401T213000Z
DTEND:20170401T223000Z
X-MICROSOFT-CDO-ALLDAYEVENT:FALSE
SUMMARY:Boys & Girls Club "Playground Build" Ribbon Cutting
DESCRIPTION:Boys & Girls Club\n\n"Playground Build"\n\nRibbon Cutting
X-ALT-DESC;FMTTYPE=text/html:<strong><span style="font-size:18px\;">Boys &amp\; Girls Club<br />\n&quot\;Playground Build</span>&quot\;<br />\n<span style="font-size:18px\;"><em>Ribbon Cutting</em></span></strong>
LOCATION:Boys & Girls Club of Huntington Valley Kingston Branch 16582 Brookhurst St Fountain Valley
UID:e.2030.3876
SEQUENCE:3
DTSTAMP:20260424T214241Z
URL:http://business.fvchamber.com/events/details/boys-girls-club-playground-build-ribbon-cutting-3876
END:VEVENT

END:VCALENDAR
