BEGIN:VCALENDAR
VERSION:2.0
PRODID:-//ChamberMaster//Event Calendar 2.0//EN
METHOD:PUBLISH
X-PUBLISHED-TTL:P3D
REFRESH-INTERVAL:P3D
CALSCALE:GREGORIAN
BEGIN:VEVENT
DTSTART:20181007T000000Z
DTEND:20181007T050000Z
X-MICROSOFT-CDO-ALLDAYEVENT:FALSE
SUMMARY:Boys & Girls Club Gala
DESCRIPTION:Boys & Girls Club Gala
X-ALT-DESC;FMTTYPE=text/html:<span style="font-size:14px\;"><strong>Boys &amp\; Girls Club Gala</strong></span>
LOCATION:
UID:e.2030.4372
SEQUENCE:3
DTSTAMP:20260423T191613Z
URL:http://business.fvchamber.com/events/details/boys-girls-club-gala-4372
END:VEVENT

END:VCALENDAR
