BEGIN:VCALENDAR
VERSION:2.0
PRODID:-//ChamberMaster//Event Calendar 2.0//EN
METHOD:PUBLISH
X-PUBLISHED-TTL:P3D
REFRESH-INTERVAL:P3D
CALSCALE:GREGORIAN
BEGIN:VEVENT
DTSTART:20191217T193000Z
DTEND:20191217T220000Z
X-MICROSOFT-CDO-ALLDAYEVENT:FALSE
SUMMARY:Board Installation & Holiday Luncheon
DESCRIPTION:Welcome the Holidays with our annual Board Installation & Holiday Luncheon. Let's kick off the Holiday Season with some joy\, conversations\, connections\, and camaraderie. Food & Drinks will be provided. Hope to see you there!\n\n\n\nHoliday Musical Performance By:\n\nLet There Be Rock School\n\n\n\nWant to compere in our Holiday Table Decorating Competition: Please Call the Chamber Office For More Info:
X-ALT-DESC;FMTTYPE=text/html:<strong><span style="color:#FF0000\;"><span style="font-family:verdana\;"><span style="font-size:16px\;">Welcome the Holidays with our annual Board Installation &amp\; Holiday Luncheon. Let&#39\;s kick off the Holiday Season with some joy\, conversations\, connections\, and camaraderie. Food &amp\; Drinks will be provided. Hope to see you there!<br />\n<br />\nHoliday Musical Performance By:<br />\nLet There Be Rock School<br />\n<br />\nWant to compere in our Holiday Table Decorating Competition: Please Call the Chamber Office For More Info:</span></span></span></strong>
LOCATION:Heritage Park 17641 Los Alamos St. Fountain Valley\, CA 92708
UID:e.2030.5275
SEQUENCE:3
DTSTAMP:20260422T221803Z
URL:http://business.fvchamber.com/events/details/board-installation-holiday-luncheon-5275
END:VEVENT

END:VCALENDAR
