BEGIN:VCALENDAR
VERSION:2.0
PRODID:-//ChamberMaster//Event Calendar 2.0//EN
METHOD:PUBLISH
X-PUBLISHED-TTL:P3D
REFRESH-INTERVAL:P3D
CALSCALE:GREGORIAN
BEGIN:VEVENT
DTSTART:20220809T010000Z
DTEND:20220809T023000Z
X-MICROSOFT-CDO-ALLDAYEVENT:FALSE
SUMMARY:Better Business Writing: Tips & Techniques for Clear and Concise Communication
DESCRIPTION:Training Topics: Customer Relations & Marketing/ Sales
X-ALT-DESC;FMTTYPE=text/html:Training Topics: Customer Relations &amp\; Marketing/ Sales
LOCATION:Zoom
UID:e.2030.5858
SEQUENCE:3
DTSTAMP:20260420T140813Z
URL:http://business.fvchamber.com/events/details/better-business-writing-tips-techniques-for-clear-and-concise-communication-5858
END:VEVENT

END:VCALENDAR
