BEGIN:VCALENDAR
VERSION:2.0
PRODID:-//ChamberMaster//Event Calendar 2.0//EN
METHOD:PUBLISH
X-PUBLISHED-TTL:P3D
REFRESH-INTERVAL:P3D
CALSCALE:GREGORIAN
BEGIN:VEVENT
DTSTART;VALUE=DATE:20200831
DTEND;VALUE=DATE:20200901
TRANSP:TRANSPARENT
X-MICROSOFT-CDO-ALLDAYEVENT:TRUE
SUMMARY:Become a Patron Sponsor with the FV Chamber of Commerce
DESCRIPTION:Please take a moment to consider making a donation to your local Fountain Valley Chamber of Commerce\; your donation will allow you to become a Patron Sponsor with the Chamber.\n\n\n\nEvery dollar you donate will help our chamber to continue to operate and thrive for many more years to come. We appreciate your generosity.
X-ALT-DESC;FMTTYPE=text/html:<strong><span style="color:#000000\;"><span style="font-family:verdana\;"><span style="font-size:18px\;">Please take a moment to consider making a donation to your local Fountain Valley Chamber of Commerce\; your donation will allow you to become a Patron Sponsor with the Chamber.<br />\n<br />\nEvery dollar you donate will help our chamber to continue to operate and thrive for many more years to come. We appreciate your generosity.</span></span></span></strong>
LOCATION:Helping our chamber from the comfort of your own home.
UID:e.2030.5315
SEQUENCE:3
DTSTAMP:20260422T093126Z
URL:http://business.fvchamber.com/events/details/become-a-patron-sponsor-with-the-fv-chamber-of-commerce-5315
END:VEVENT

END:VCALENDAR
