BEGIN:VCALENDAR
VERSION:2.0
PRODID:-//ChamberMaster//Event Calendar 2.0//EN
METHOD:PUBLISH
X-PUBLISHED-TTL:P3D
REFRESH-INTERVAL:P3D
CALSCALE:GREGORIAN
BEGIN:VEVENT
DTSTART:20180725T000000Z
DTEND:20180725T020000Z
X-MICROSOFT-CDO-ALLDAYEVENT:FALSE
SUMMARY:Beach City Dog Camp Grand Opening / Ribbon Cutting
DESCRIPTION:Grand Opening / Ribbon Cutting\n\nBeach City Dog Camp
X-ALT-DESC;FMTTYPE=text/html:<span style="font-size:14px\;"><em><strong>Grand Opening / Ribbon Cutting</strong></em></span><br />\n<span style="font-size:18px\;"><strong>Beach City Dog Camp</strong></span><br />\n&nbsp\;
LOCATION:17970 Magnolia Street Fountain Valley
UID:e.2030.4812
SEQUENCE:3
DTSTAMP:20260423T221530Z
URL:http://business.fvchamber.com/events/details/beach-city-dog-camp-grand-opening-ribbon-cutting-4812
END:VEVENT

END:VCALENDAR
