BEGIN:VCALENDAR
VERSION:2.0
PRODID:-//ChamberMaster//Event Calendar 2.0//EN
METHOD:PUBLISH
X-PUBLISHED-TTL:P3D
REFRESH-INTERVAL:P3D
CALSCALE:GREGORIAN
BEGIN:VEVENT
DTSTART:20221107T163000Z
DTEND:20221107T173000Z
X-MICROSOFT-CDO-ALLDAYEVENT:FALSE
SUMMARY:Beach Blvd. Pet Hospital
DESCRIPTION:Join us to celebrate Beach Blvd. Pet Hospital reopening its doors to guests.
X-ALT-DESC;FMTTYPE=text/html:Join us to celebrate Beach Blvd. Pet Hospital reopening its doors to guests.
LOCATION:Beach Blvd. Pet Hospital 16191 Beach Blvd\, Huntington Beach\, CA 92647
UID:e.2030.5869
SEQUENCE:3
DTSTAMP:20260420T085829Z
URL:http://business.fvchamber.com/events/details/beach-blvd-pet-hospital-5869
END:VEVENT

END:VCALENDAR
