BEGIN:VCALENDAR
VERSION:2.0
PRODID:-//ChamberMaster//Event Calendar 2.0//EN
METHOD:PUBLISH
X-PUBLISHED-TTL:P3D
REFRESH-INTERVAL:P3D
CALSCALE:GREGORIAN
BEGIN:VEVENT
DTSTART:20200528T200000Z
DTEND:20200528T213000Z
X-MICROSOFT-CDO-ALLDAYEVENT:FALSE
SUMMARY:Barbering & Cosmetology Virtual Town Hall (Tom Umberg)
DESCRIPTION:Join California State Senator Tom Umberg and 4 panelists as they discuss the future of barbering and cosmetology here in Southern California.
X-ALT-DESC;FMTTYPE=text/html:<strong><span style="color:#000000\;"><span style="font-family:times new roman\;"><span style="font-family:verdana\;"><span style="font-size:18px\;">Join California State Senator Tom Umberg and 4 panelists as they discuss the future of barbering and cosmetology here in Southern California.</span></span></span></span></strong>
LOCATION:From the comfort of your own home. For More Information\, Please Call: 714-558-3785
UID:e.2030.5313
SEQUENCE:3
DTSTAMP:20260422T125200Z
URL:http://business.fvchamber.com/events/details/barbering-cosmetology-virtual-town-hall-tom-umberg-5313
END:VEVENT

END:VCALENDAR
