BEGIN:VCALENDAR
VERSION:2.0
PRODID:-//ChamberMaster//Event Calendar 2.0//EN
METHOD:PUBLISH
X-PUBLISHED-TTL:P3D
REFRESH-INTERVAL:P3D
CALSCALE:GREGORIAN
BEGIN:VEVENT
DTSTART;VALUE=DATE:20171108
DTEND;VALUE=DATE:20171109
TRANSP:TRANSPARENT
X-MICROSOFT-CDO-ALLDAYEVENT:TRUE
SUMMARY:Ballard & Ballard Mixer
DESCRIPTION:Ballard & Ballard Jewelers Mixer
X-ALT-DESC;FMTTYPE=text/html:<span style="font-size:16px\;"><strong>Ballard &amp\; Ballard Jewelers Mixer</strong></span>
LOCATION:18400 Brookhurst St. Fountain Valley
UID:e.2030.4143
SEQUENCE:3
DTSTAMP:20260424T125319Z
URL:http://business.fvchamber.com/events/details/ballard-ballard-mixer-4143
END:VEVENT

END:VCALENDAR
