BEGIN:VCALENDAR
VERSION:2.0
PRODID:-//ChamberMaster//Event Calendar 2.0//EN
METHOD:PUBLISH
X-PUBLISHED-TTL:P3D
REFRESH-INTERVAL:P3D
CALSCALE:GREGORIAN
BEGIN:VEVENT
DTSTART:20170112T010000Z
DTEND:20170112T030000Z
X-MICROSOFT-CDO-ALLDAYEVENT:FALSE
SUMMARY:Ballard & Ballard Jewelers 100-Year Anniversary
DESCRIPTION:Ballard & Ballard Jewelers\n\n100-Year Anniversary Ribbon Cutting
X-ALT-DESC;FMTTYPE=text/html:<span style="font-size:18px\;"><strong>Ballard &amp\; Ballard Jewelers</strong></span><br />\n<em><span style="font-size:18px\;"><strong>100-Year Anniversary Ribbon Cutting</strong></span></em>
LOCATION:18400 Brooknurst Street Fountain Valley
UID:e.2030.3855
SEQUENCE:3
DTSTAMP:20260425T021132Z
URL:http://business.fvchamber.com/events/details/ballard-ballard-jewelers-100-year-anniversary-3855
END:VEVENT

END:VCALENDAR
