BEGIN:VCALENDAR
VERSION:2.0
PRODID:-//ChamberMaster//Event Calendar 2.0//EN
METHOD:PUBLISH
X-PUBLISHED-TTL:P3D
REFRESH-INTERVAL:P3D
CALSCALE:GREGORIAN
BEGIN:VEVENT
DTSTART:20170114T193000Z
DTEND:20170114T213000Z
X-MICROSOFT-CDO-ALLDAYEVENT:FALSE
SUMMARY:B Nutritious Grand Opening / Ribbon Cutting
DESCRIPTION:B Nutritious\n\nGrand Opening / Ribbon Cutting
X-ALT-DESC;FMTTYPE=text/html:<span style="font-size:18px\;"><strong>B Nutritious</strong></span><br />\n<em><strong><span style="font-size:16px\;">Grand Opening / Ribbon Cutting</span></strong></em>
LOCATION:18053 Magnolia Street (at Talbert) Fountain Valley
UID:e.2030.3856
SEQUENCE:3
DTSTAMP:20260425T022750Z
URL:http://business.fvchamber.com/events/details/b-nutritious-grand-opening-ribbon-cutting-3856
END:VEVENT

END:VCALENDAR
