BEGIN:VCALENDAR
VERSION:2.0
PRODID:-//ChamberMaster//Event Calendar 2.0//EN
METHOD:PUBLISH
X-PUBLISHED-TTL:P3D
REFRESH-INTERVAL:P3D
CALSCALE:GREGORIAN
BEGIN:VEVENT
DTSTART:20160309T180000Z
DTEND:20160309T190000Z
X-MICROSOFT-CDO-ALLDAYEVENT:FALSE
SUMMARY:Awards Wrap-up Meeting
DESCRIPTION:Business & Achievement Awards\n\nWrap-up Committee Meeting
X-ALT-DESC;FMTTYPE=text/html:<span style="font-size:18px\;"><strong>Business &amp\; Achievement Awards<br />\nWrap-up</strong></span><strong>&nbsp\;<span style="font-size:18px\;">Committee Meeting</span></strong>
LOCATION:Fountain Valley Chamber 10055 Slater Ave.\, #250 Fountain Valley\, CA 92708
UID:e.2030.2801
SEQUENCE:3
DTSTAMP:20260425T172558Z
URL:http://business.fvchamber.com/events/details/awards-wrap-up-meeting-03-09-2016-2801
END:VEVENT

END:VCALENDAR
