BEGIN:VCALENDAR
VERSION:2.0
PRODID:-//ChamberMaster//Event Calendar 2.0//EN
METHOD:PUBLISH
X-PUBLISHED-TTL:P3D
REFRESH-INTERVAL:P3D
CALSCALE:GREGORIAN
BEGIN:VEVENT
DTSTART:20190504T140000Z
DTEND:20190504T220000Z
X-MICROSOFT-CDO-ALLDAYEVENT:FALSE
SUMMARY:Attic Treasures--Estate\, Rummage\, Parking Lot Sale
DESCRIPTION:The Huntington Harbour Philharmonic Committee\, supporting music programs for school children in our community\, presents the 13th Annual ATTIC TREASURES giant estate/garage/rummage sale in the Huntington Harbour Mall Parking lot. 16889 Algonquin St. (behind Trader Joe's). Antiques\, collectibles\, clothing\, handbags\, jewelry\, housewares\, games\, toys\, one-of-a-kind treasures\, and much more.
X-ALT-DESC;FMTTYPE=text/html:<span style="color:#333333"><span style="font-family:arial\,sans-serif"><span style="font-size:10.0pt">The Huntington Harbour Philharmonic Committee\, supporting music programs for school children in our community\, presents the 13th Annual ATTIC TREASURES giant estate/garage/rummage sale in the Huntington Harbour Mall Parking lot. 16889 Algonquin St. (behind Trader Joe&#39\;s). Antiques\, collectibles\, clothing\, handbags\, jewelry\, housewares\, games\, toys\, one-of-a-kind treasures\, and much more.&nbsp\;</span></span></span>
LOCATION:Huntington Harbour Mall rear parking lot 16889 Algonquin St. (behind Trader Joe's)
UID:e.2030.5105
SEQUENCE:3
DTSTAMP:20260423T070806Z
URL:http://business.fvchamber.com/events/details/attic-treasures-estate-rummage-parking-lot-sale-5105
END:VEVENT

END:VCALENDAR
