BEGIN:VCALENDAR
VERSION:2.0
PRODID:-//ChamberMaster//Event Calendar 2.0//EN
METHOD:PUBLISH
X-PUBLISHED-TTL:P3D
REFRESH-INTERVAL:P3D
CALSCALE:GREGORIAN
BEGIN:VEVENT
DTSTART:20191024T210000Z
DTEND:20191024T223000Z
X-MICROSOFT-CDO-ALLDAYEVENT:FALSE
SUMMARY:Assemblyman Tyler Diep Presents: Senior Scam Stopper Seminar
DESCRIPTION:Come learn how to spot scams and protect your personal information. Get an update on what the Legislature is doing to protect seniors and share your thoughts on issues facing your community. Seniors\, their caregivers\, and families are welcome to attend this free seminar.
X-ALT-DESC;FMTTYPE=text/html:<strong><span style="color:#000000\;"><span style="font-family:verdana\;"><span style="font-size:16px\;">Come learn how to spot scams and protect your personal information. Get an update on what the Legislature is doing to protect seniors and share your thoughts on issues facing your community. Seniors\, their caregivers\, and families are welcome to attend this free seminar.</span></span></span></strong>
LOCATION:The Center at Founders Village & Community Center 17967 Bushard St. Fountain Valley\, CA 92708
UID:e.2030.5273
SEQUENCE:3
DTSTAMP:20260422T235915Z
URL:http://business.fvchamber.com/events/details/assemblyman-tyler-diep-presents-senior-scam-stopper-seminar-5273
END:VEVENT

END:VCALENDAR
