BEGIN:VCALENDAR
VERSION:2.0
PRODID:-//ChamberMaster//Event Calendar 2.0//EN
METHOD:PUBLISH
X-PUBLISHED-TTL:P3D
REFRESH-INTERVAL:P3D
CALSCALE:GREGORIAN
BEGIN:VEVENT
DTSTART:20191023T010000Z
DTEND:20191023T023000Z
X-MICROSOFT-CDO-ALLDAYEVENT:FALSE
SUMMARY:Assemblyman Tyler Diep Presents: Free Self Defense Workshop
DESCRIPTION:Everyone should know how to protect themselves. Learn more about personal safety and awareness\, emergency self-defense techniques\, assertiveness training and understanding and reacting to inappropriate behavior by attending this workshop.
X-ALT-DESC;FMTTYPE=text/html:<strong><span style="color:#000000\;"><span style="font-family:verdana\;"><span style="font-size:16px\;">Everyone should know how to protect themselves. Learn more about personal safety and awareness\, emergency self-defense techniques\, assertiveness training and understanding and reacting to inappropriate behavior by attending this workshop.&nbsp\;</span></span></span></strong>
LOCATION:Senior Center in Central Park 18041 Goldenwest St. Huntington Beach
UID:e.2030.5272
SEQUENCE:3
DTSTAMP:20260422T235548Z
URL:http://business.fvchamber.com/events/details/assemblyman-tyler-diep-presents-free-self-defense-workshop-5272
END:VEVENT

END:VCALENDAR
