BEGIN:VCALENDAR
VERSION:2.0
PRODID:-//ChamberMaster//Event Calendar 2.0//EN
METHOD:PUBLISH
X-PUBLISHED-TTL:P3D
REFRESH-INTERVAL:P3D
CALSCALE:GREGORIAN
BEGIN:VEVENT
DTSTART:20190417T220000Z
DTEND:20190418T020000Z
X-MICROSOFT-CDO-ALLDAYEVENT:FALSE
SUMMARY:Assemblyman Tyler Diep Open House
DESCRIPTION:Please join the Fountain Valley Chamber of Commerce as we visit Tyler Diep's District Office for his inaugural Open House!\n\nFree parking in the parking structure\n\n\n\nPlease consider bringing a canned food item to donate to the Orange County Food Bank\n\nWebsite: www.asm.ca.gov/diep\n\n \n\nEmail: Assemblymember Tyler Diep
X-ALT-DESC;FMTTYPE=text/html:<strong><span style="color:#006400\;"><span style="font-size:16px\;">Please join the Fountain Valley Chamber of Commerce as we visit Tyler Diep&#39\;s District Office for his inaugural Open House!</span></span><br />\n<span style="font-family:verdana\;"><span style="font-size:16px\;"><span style="color:#006400\;">Free parking in the parking structure<br />\n<br />\nPlease consider bringing a canned food item to donate to the Orange County Food Bank<br />\nWebsite:&nbsp\;</span><a href="www.asm.ca.gov/diep" target="_blank" title="Diep Website"><span style="color:#006400\;">www.asm.ca.gov/diep</span></a><br />\n<span style="color:#006400\;">&nbsp\;<br />\nEmail:&nbsp\;</span><a href="https://lcmspubcontact.lc.ca.gov/PublicLCMS/ContactPopup.php?district=AD72&amp\;width=600px&amp\;height=700px&amp\;iframe=true" target="_blank" title="Email Link"><span style="color:#006400\;">Assemblymember Tyler Diep</span></a></span></span></strong><br />\n&nbsp\;
LOCATION:District Office 17011 Beach Blvd.\, Suite 1120 Huntington Beach\, CA 92647
UID:e.2030.5107
SEQUENCE:3
DTSTAMP:20260423T084313Z
URL:http://business.fvchamber.com/events/details/assemblyman-tyler-diep-open-house-5107
END:VEVENT

END:VCALENDAR
