BEGIN:VCALENDAR
VERSION:2.0
PRODID:-//ChamberMaster//Event Calendar 2.0//EN
METHOD:PUBLISH
X-PUBLISHED-TTL:P3D
REFRESH-INTERVAL:P3D
CALSCALE:GREGORIAN
BEGIN:VEVENT
DTSTART:20170210T003000Z
DTEND:20170210T023000Z
X-MICROSOFT-CDO-ALLDAYEVENT:FALSE
SUMMARY:Appreciation Reception at Carmel Village
DESCRIPTION:Appreciation Reception Honoring\n\nThe Stars of Carmel  Village\n\n\n\nOur Stars Of Carmel Village 2017\n\nPetra Palomares - Carmel Village Retirement Community - Focused Care - Activity Assistant\n\nMaribel Sanchez - Carmel Village Retirement Community - Resident Care - Medication Technician\n\nYesenia Gonzalez - Carmel Village Retirement Community - Resident Care - Medication Technician\n\nJose Ponce - Carmel Village Retirement Community - Dietary - Cook\n\nJuan Carlos Barrera - Carmel Village Retirement Community - Maintenance   Maintenance Assistant\n\nFlor Ruiz - Carmel Village Retirement Community - Activities   Activity Assistant\n\nDr. Christopher Salem\n\nDr. Ketan Bhakta\n\nAnadaisy Garcia - RN\, BSN  Administrator   Network Providers Home Health\n\nBob Pituch - Owner   Yorba Linda Pharmacy\n\nAlex Agazaryan - Administrator  Acacia Home Health\n\nDaniel Llorenz - Chief of Police   FVPD\n\nTony Coppolino - Fire Chief   Fountain Valley Fire Department\n\nCheryl Brothers - Council Member   City of Fountain Valley\n\nLarry Crandall - Chair   Fountain Valley Chamber of Commerce   Government Affairs Committee\n\nRabbi David N. Young - Rabbi   Congregation B'nai Tzedek\n\nDarrell Tesdall - Pastor to Seniors   Coastal Community Fellowship\n\nJeannie Steinbrunner - Church Secretary   King of Glory Church\n\nMosignor Al George - Retired   Resident of Carmel Village Retirement Community\n\nBeth Hambleton - Senior Program and Community Outreach Liasion   Orange Coast Memorial Medical Center\n\nSandra Crandall - President   Fountain Valley School District   Board of Trustees
X-ALT-DESC;FMTTYPE=text/html:<span style="font-size:14px\;"><em><strong>Appreciation Reception Honoring</strong></em></span><br />\n<span style="font-size:16px\;"><strong>The Stars of Carmel &nbsp\;Village</strong></span><br />\n<br />\n<em><span style="font-family:agaramond-semibolditalic\;"><span style="font-size:20.0pt\;">Our Stars Of Carmel Village 2017</span></span></em><br />\n<strong><span style="font-family:garamond-bold\;"><span style="font-size:11.5pt\;">Petra Palomares </span></span></strong><strong><span style="font-family:garamond-bold\;"><span style="font-size:10.0pt\;">- </span></span></strong><span style="font-family:garamond\,serif\;"><span style="font-size:10.0pt\;">Carmel Village Retirement Community - Focused Care - Activity Assistant</span></span><br />\n<strong><span style="font-family:garamond-bold\;"><span style="font-size:11.5pt\;">Maribel Sanchez </span></span></strong><strong><span style="font-family:garamond-bold\;"><span style="font-size:10.0pt\;">- </span></span></strong><span style="font-family:garamond\,serif\;"><span style="font-size:10.0pt\;">Carmel Village Retirement Community - Resident Care - Medication Technician</span></span><br />\n<strong><span style="font-family:garamond-bold\;"><span style="font-size:11.5pt\;">Yesenia Gonzalez </span></span></strong><strong><span style="font-family:garamond-bold\;"><span style="font-size:10.0pt\;">- </span></span></strong><span style="font-family:garamond\,serif\;"><span style="font-size:10.0pt\;">Carmel Village Retirement Community - Resident Care - Medication Technician</span></span><br />\n<strong><span style="font-family:garamond-bold\;"><span style="font-size:11.5pt\;">Jose Ponce </span></span></strong><strong><span style="font-family:garamond-bold\;"><span style="font-size:10.0pt\;">- </span></span></strong><span style="font-family:garamond\,serif\;"><span style="font-size:10.0pt\;">Carmel Village Retirement Community - Dietary - Cook</span></span><br />\n<strong><span style="font-family:garamond-bold\;"><span style="font-size:11.5pt\;">Juan Carlos Barrera </span></span></strong><strong><span style="font-family:garamond-bold\;"><span style="font-size:10.0pt\;">- </span></span></strong><span style="font-family:garamond\,serif\;"><span style="font-size:10.0pt\;">Carmel Village Retirement Community - Maintenance &ndash\; Maintenance Assistant</span></span><br />\n<strong><span style="font-family:garamond-bold\;"><span style="font-size:11.5pt\;">Flor Ruiz </span></span></strong><strong><span style="font-family:garamond-bold\;"><span style="font-size:10.0pt\;">- </span></span></strong><span style="font-family:garamond\,serif\;"><span style="font-size:10.0pt\;">Carmel Village Retirement Community - Activities &ndash\; Activity Assistant</span></span><br />\n<strong><span style="font-family:garamond-bold\;"><span style="font-size:11.5pt\;">Dr. Christopher Salem</span></span></strong><br />\n<strong><span style="font-family:garamond-bold\;"><span style="font-size:11.5pt\;">Dr. Ketan Bhakta</span></span></strong><br />\n<strong><span style="font-family:garamond-bold\;"><span style="font-size:11.5pt\;">Anadaisy Garcia </span></span></strong><strong><span style="font-family:garamond-bold\;"><span style="font-size:10.0pt\;">- </span></span></strong><span style="font-family:garamond\,serif\;"><span style="font-size:10.0pt\;">RN\, BSN &ndash\;Administrator &ndash\; Network Providers Home Health</span></span><br />\n<strong><span style="font-family:garamond-bold\;"><span style="font-size:11.5pt\;">Bob Pituch </span></span></strong><strong><span style="font-family:garamond-bold\;"><span style="font-size:10.0pt\;">- </span></span></strong><span style="font-family:garamond\,serif\;"><span style="font-size:10.0pt\;">Owner &ndash\; Yorba Linda Pharmacy</span></span><br />\n<strong><span style="font-family:garamond-bold\;"><span style="font-size:11.5pt\;">Alex Agazaryan </span></span></strong><strong><span style="font-family:garamond-bold\;"><span style="font-size:10.0pt\;">- </span></span></strong><span style="font-family:garamond\,serif\;"><span style="font-size:10.0pt\;">Administrator&ndash\; Acacia Home Health</span></span><br />\n<strong><span style="font-family:garamond-bold\;"><span style="font-size:11.5pt\;">Daniel Llorenz </span></span></strong><strong><span style="font-family:garamond-bold\;"><span style="font-size:10.0pt\;">- </span></span></strong><span style="font-family:garamond\,serif\;"><span style="font-size:10.0pt\;">Chief of Police &ndash\; FVPD</span></span><br />\n<strong><span style="font-family:garamond-bold\;"><span style="font-size:11.5pt\;">Tony </span></span></strong><strong><span style="font-family:garamond-bold\;"><span style="font-size:11.5pt\;">Coppolin</span></span></strong><strong><span style="font-family:garamond-bold\;"><span style="font-size:10.0pt\;">o</span></span></strong><strong><span style="font-family:garamond-bold\;"><span style="font-size:10.0pt\;"> - </span></span></strong><span style="font-family:garamond\,serif\;"><span style="font-size:10.0pt\;">Fire Chief &ndash\; Fountain Valley Fire Department</span></span><br />\n<strong><span style="font-family:garamond-bold\;"><span style="font-size:11.5pt\;">Cheryl Brothers </span></span></strong><strong><span style="font-family:garamond-bold\;"><span style="font-size:10.0pt\;">- </span></span></strong><span style="font-family:garamond\,serif\;"><span style="font-size:10.0pt\;">Council Member &ndash\; City of Fountain Valley</span></span><br />\n<strong><span style="font-family:garamond-bold\;"><span style="font-size:11.5pt\;">Larry Crandall </span></span></strong><strong><span style="font-family:garamond-bold\;"><span style="font-size:10.0pt\;">- </span></span></strong><span style="font-family:garamond\,serif\;"><span style="font-size:10.0pt\;">Chair &ndash\; Fountain Valley Chamber of Commerce &ndash\; Government Affairs Committee</span></span><br />\n<strong><span style="font-family:garamond-bold\;"><span style="font-size:11.5pt\;">Rabbi David N. Young </span></span></strong><strong><span style="font-family:garamond-bold\;"><span style="font-size:10.0pt\;">- </span></span></strong><span style="font-family:garamond\,serif\;"><span style="font-size:10.0pt\;">Rabbi &ndash\; Congregation B&#39\;nai Tzedek</span></span><br />\n<strong><span style="font-family:garamond-bold\;"><span style="font-size:11.5pt\;">Darrell Tesdall </span></span></strong><strong><span style="font-family:garamond-bold\;"><span style="font-size:10.0pt\;">- </span></span></strong><span style="font-family:garamond\,serif\;"><span style="font-size:10.0pt\;">Pastor to Seniors &ndash\; Coastal Community Fellowship</span></span><br />\n<strong><span style="font-family:garamond-bold\;"><span style="font-size:11.5pt\;">Jeannie Steinbrunner </span></span></strong><strong><span style="font-family:garamond-bold\;"><span style="font-size:10.0pt\;">- </span></span></strong><span style="font-family:garamond\,serif\;"><span style="font-size:10.0pt\;">Church Secretary &ndash\; King of Glory Church</span></span><br />\n<strong><span style="font-family:garamond-bold\;"><span style="font-size:11.5pt\;">Mosignor Al George </span></span></strong><strong><span style="font-family:garamond-bold\;"><span style="font-size:10.0pt\;">- </span></span></strong><span style="font-family:garamond\,serif\;"><span style="font-size:10.0pt\;">Retired &ndash\; Resident of Carmel Village Retirement Community</span></span><br />\n<strong><span style="font-family:garamond-bold\;"><span style="font-size:11.5pt\;">Beth Hambleton </span></span></strong><strong><span style="font-family:garamond-bold\;"><span style="font-size:10.0pt\;">- </span></span></strong><span style="font-family:garamond\,serif\;"><span style="font-size:9.0pt\;">Senior Program and Community Outreach Liasion &ndash\; Orange Coast Memorial Medical Center</span></span><br />\n<strong><span style="font-family:garamond-bold\;"><span style="font-size:11.5pt\;">Sandra Crandall </span></span></strong><strong><span style="font-family:garamond-bold\;"><span style="font-size:10.0pt\;">- </span></span></strong><span style="font-family:garamond\,serif\;"><span style="font-size:10.0pt\;">President &ndash\; Fountain Valley School District &ndash\; Board of Trustees</span></span><br />\n&nbsp\;
LOCATION:Carmel Village 17077 San Mateo Street Fountain Valley
UID:e.2030.3863
SEQUENCE:3
DTSTAMP:20260425T005024Z
URL:http://business.fvchamber.com/events/details/appreciation-reception-at-carmel-village-3863
END:VEVENT

END:VCALENDAR
