BEGIN:VCALENDAR
VERSION:2.0
PRODID:-//ChamberMaster//Event Calendar 2.0//EN
METHOD:PUBLISH
X-PUBLISHED-TTL:P3D
REFRESH-INTERVAL:P3D
CALSCALE:GREGORIAN
BEGIN:VEVENT
DTSTART:20150925T000000Z
DTEND:20150925T020000Z
X-MICROSOFT-CDO-ALLDAYEVENT:FALSE
SUMMARY:Anytime Fitness Grand Opening / Ribbon Cutting
DESCRIPTION:Anytime Fitness FV\n\nGrand Opening / Ribbon Cutting
X-ALT-DESC;FMTTYPE=text/html:<span style="font-size:14px\;"><span style="font-family: tahoma\;"><strong>Anytime Fitness FV<br />\nGrand Opening / Ribbon Cutting</strong></span></span>
LOCATION:9394 Warner Avenue Fountain Valley\, CA 92708
UID:e.2030.2167
SEQUENCE:3
DTSTAMP:20260426T030914Z
URL:http://business.fvchamber.com/events/details/anytime-fitness-grand-opening-ribbon-cutting-09-24-2015-2167
END:VEVENT

END:VCALENDAR
