BEGIN:VCALENDAR
VERSION:2.0
PRODID:-//ChamberMaster//Event Calendar 2.0//EN
METHOD:PUBLISH
X-PUBLISHED-TTL:P3D
REFRESH-INTERVAL:P3D
CALSCALE:GREGORIAN
BEGIN:VEVENT
DTSTART:20201216T230000Z
DTEND:20201217T013000Z
X-MICROSOFT-CDO-ALLDAYEVENT:FALSE
SUMMARY:Annual Member Meeting - Board Installation & Holiday Happy Hour
DESCRIPTION:The Fountain Valley Chamber of Commerce's Annual Member Meeting.  Join us for our 2020 Board Installation and Holiday Happy Hour!
X-ALT-DESC;FMTTYPE=text/html:<em><span style="color:#B22222\;"><span style="font-size:14px\;"><span style="font-family:times new roman\;">The Fountain Valley Chamber of Commerce&#39\;s Annual Member Meeting.&nbsp\; Join us for our 2020 Board Installation and Holiday Happy Hour!</span></span></span></em>
LOCATION:Drive Thru & Pickup your Appetizers & Bottle of Wine in the Cambalache Grill Parking Lot from 3:00 - 3:45pm ..... Then\, join us via Zoom at 4pm to Meet our New Directors & have some Festive Fun!
UID:e.2030.5328
SEQUENCE:3
DTSTAMP:20260422T011421Z
URL:http://business.fvchamber.com/events/details/annual-member-meeting-board-installation-holiday-happy-hour-5328
END:VEVENT

END:VCALENDAR
