BEGIN:VCALENDAR
VERSION:2.0
PRODID:-//ChamberMaster//Event Calendar 2.0//EN
METHOD:PUBLISH
X-PUBLISHED-TTL:P3D
REFRESH-INTERVAL:P3D
CALSCALE:GREGORIAN
BEGIN:VEVENT
DTSTART:20230626T170000Z
DTEND:20230626T210000Z
X-MICROSOFT-CDO-ALLDAYEVENT:FALSE
SUMMARY:Anaheim Workforce Job Fair
DESCRIPTION:Anaheim Workforce Connection
X-ALT-DESC;FMTTYPE=text/html:Anaheim Workforce Connection
LOCATION:Downtown Community Center 250 E. Center St.\, Anaheim\, CA 92805
UID:e.2030.6180
SEQUENCE:3
DTSTAMP:20260419T210348Z
URL:http://business.fvchamber.com/events/details/anaheim-workforce-job-fair-6180
END:VEVENT

END:VCALENDAR
