BEGIN:VCALENDAR
VERSION:2.0
PRODID:-//ChamberMaster//Event Calendar 2.0//EN
METHOD:PUBLISH
X-PUBLISHED-TTL:P3D
REFRESH-INTERVAL:P3D
CALSCALE:GREGORIAN
BEGIN:VEVENT
DTSTART:20171206T013000Z
DTEND:20171206T020000Z
X-MICROSOFT-CDO-ALLDAYEVENT:FALSE
SUMMARY:Ambassador Meeting
DESCRIPTION:Ambassador Meeting - 5:30pm-6:00pm\n\nHoliday Party - 6:00-8:00
X-ALT-DESC;FMTTYPE=text/html:<span style="font-size:16px\;"><strong>Ambassador Meeting - 5:30pm-6:00pm<br />\nHoliday Party - 6:00-8:00</strong></span>
LOCATION:Silky Sullivan's Restaurant 10201 Slater Ave. Fountain Valley
UID:e.2030.831
SEQUENCE:3
DTSTAMP:20260424T111033Z
URL:http://business.fvchamber.com/events/details/ambassador-meeting-12-05-2017-831
END:VEVENT

END:VCALENDAR
