BEGIN:VCALENDAR
VERSION:2.0
PRODID:-//ChamberMaster//Event Calendar 2.0//EN
METHOD:PUBLISH
X-PUBLISHED-TTL:P3D
REFRESH-INTERVAL:P3D
CALSCALE:GREGORIAN
BEGIN:VEVENT
DTSTART:20181205T010000Z
DTEND:20181205T020000Z
X-MICROSOFT-CDO-ALLDAYEVENT:FALSE
SUMMARY:Ambassador Meeting
DESCRIPTION:Ambassador Meeting
X-ALT-DESC;FMTTYPE=text/html:Ambassador Meeting
LOCATION:Silky Sullivan's Restaurant 10201 Slater Ave. Fountain Valley
UID:e.2030.843
SEQUENCE:3
DTSTAMP:20260423T161303Z
URL:http://business.fvchamber.com/events/details/ambassador-meeting-12-04-2018-843
END:VEVENT

END:VCALENDAR
