BEGIN:VCALENDAR
VERSION:2.0
PRODID:-//ChamberMaster//Event Calendar 2.0//EN
METHOD:PUBLISH
X-PUBLISHED-TTL:P3D
REFRESH-INTERVAL:P3D
CALSCALE:GREGORIAN
BEGIN:VEVENT
DTSTART:20201202T003000Z
DTEND:20201202T013000Z
X-MICROSOFT-CDO-ALLDAYEVENT:FALSE
SUMMARY:Ambassador Meeting
DESCRIPTION:Monthly Chamber Ambassador Meeting
X-ALT-DESC;FMTTYPE=text/html:Monthly Chamber Ambassador Meeting
LOCATION:Spoons: Inside the Ayers Hotel\, F.V.
UID:e.2030.867
SEQUENCE:3
DTSTAMP:20260422T010829Z
URL:http://business.fvchamber.com/events/details/ambassador-meeting-12-01-2020-867
END:VEVENT

END:VCALENDAR
