BEGIN:VCALENDAR
VERSION:2.0
PRODID:-//ChamberMaster//Event Calendar 2.0//EN
METHOD:PUBLISH
X-PUBLISHED-TTL:P3D
REFRESH-INTERVAL:P3D
CALSCALE:GREGORIAN
BEGIN:VEVENT
DTSTART:20180711T003000Z
DTEND:20180711T013000Z
X-MICROSOFT-CDO-ALLDAYEVENT:FALSE
SUMMARY:Ambassador Meeting
DESCRIPTION:Ambassador Meeting
X-ALT-DESC;FMTTYPE=text/html:Ambassador Meeting
LOCATION:Spoons Grill & Bar (inside Ayres Hotel FV) 17550 Brookhurst St. Fountain Valley
UID:e.2030.838
SEQUENCE:3
DTSTAMP:20260423T221150Z
URL:http://business.fvchamber.com/events/details/ambassador-meeting-07-03-2018-838
END:VEVENT

END:VCALENDAR
