BEGIN:VCALENDAR
VERSION:2.0
PRODID:-//ChamberMaster//Event Calendar 2.0//EN
METHOD:PUBLISH
X-PUBLISHED-TTL:P3D
REFRESH-INTERVAL:P3D
CALSCALE:GREGORIAN
BEGIN:VEVENT
DTSTART:20160608T003000Z
DTEND:20160608T013000Z
X-MICROSOFT-CDO-ALLDAYEVENT:FALSE
SUMMARY:Ambassador Meeting
DESCRIPTION:Ambassador Meeting
X-ALT-DESC;FMTTYPE=text/html:Ambassador Meeting
LOCATION:Cafe & Te 9430 Warner Ave.\, #A Fountain Valley
UID:e.2030.813
SEQUENCE:3
DTSTAMP:20260425T125429Z
URL:http://business.fvchamber.com/events/details/ambassador-meeting-06-07-2016-813
END:VEVENT

END:VCALENDAR
