BEGIN:VCALENDAR
VERSION:2.0
PRODID:-//ChamberMaster//Event Calendar 2.0//EN
METHOD:PUBLISH
X-PUBLISHED-TTL:P3D
REFRESH-INTERVAL:P3D
CALSCALE:GREGORIAN
BEGIN:VEVENT
DTSTART:20170607T003000Z
DTEND:20170607T013000Z
X-MICROSOFT-CDO-ALLDAYEVENT:FALSE
SUMMARY:Ambassador Meeting
DESCRIPTION:Ambassador Meeting
X-ALT-DESC;FMTTYPE=text/html:Ambassador Meeting
LOCATION:Fountain Valley Chamber 10055 Slater Ave.\, #250 Fountain Valley
UID:e.2030.825
SEQUENCE:3
DTSTAMP:20260424T200656Z
URL:http://business.fvchamber.com/events/details/ambassador-meeting-06-06-2017-825
END:VEVENT

END:VCALENDAR
