BEGIN:VCALENDAR
VERSION:2.0
PRODID:-//ChamberMaster//Event Calendar 2.0//EN
METHOD:PUBLISH
X-PUBLISHED-TTL:P3D
REFRESH-INTERVAL:P3D
CALSCALE:GREGORIAN
BEGIN:VEVENT
DTSTART:20190306T003000Z
DTEND:20190306T013000Z
X-MICROSOFT-CDO-ALLDAYEVENT:FALSE
SUMMARY:Ambassador Meeting
DESCRIPTION:Monthly Chamber Ambassador Meeting
X-ALT-DESC;FMTTYPE=text/html:Monthly Chamber Ambassador Meeting
LOCATION:Spoons: Inside the Ayers Hotel\, F.V.
UID:e.2030.846
SEQUENCE:3
DTSTAMP:20260423T104236Z
URL:http://business.fvchamber.com/events/details/ambassador-meeting-03-05-2019-846
END:VEVENT

END:VCALENDAR
