BEGIN:VCALENDAR
VERSION:2.0
PRODID:-//ChamberMaster//Event Calendar 2.0//EN
METHOD:PUBLISH
X-PUBLISHED-TTL:P3D
REFRESH-INTERVAL:P3D
CALSCALE:GREGORIAN
BEGIN:VEVENT
DTSTART:20180207T013000Z
DTEND:20180207T023000Z
X-MICROSOFT-CDO-ALLDAYEVENT:FALSE
SUMMARY:Ambassador Meeting
DESCRIPTION:Ambassador Meeting
X-ALT-DESC;FMTTYPE=text/html:Ambassador Meeting
LOCATION:Fountain Bowl 17110 Brookhurst St. Fountain Valley
UID:e.2030.833
SEQUENCE:3
DTSTAMP:20260424T051505Z
URL:http://business.fvchamber.com/events/details/ambassador-meeting-02-06-2018-833
END:VEVENT

END:VCALENDAR
