BEGIN:VCALENDAR
VERSION:2.0
PRODID:-//ChamberMaster//Event Calendar 2.0//EN
METHOD:PUBLISH
X-PUBLISHED-TTL:P3D
REFRESH-INTERVAL:P3D
CALSCALE:GREGORIAN
BEGIN:VEVENT
DTSTART:20160106T013000Z
DTEND:20160106T023000Z
X-MICROSOFT-CDO-ALLDAYEVENT:FALSE
SUMMARY:Ambassador Meeting
DESCRIPTION:
X-ALT-DESC;FMTTYPE=text/html:
LOCATION:Silky Sullivan's Restaurant 10201 Slater Ave. Fountain Valley
UID:e.2030.808
SEQUENCE:3
DTSTAMP:20260425T221732Z
URL:http://business.fvchamber.com/events/details/ambassador-meeting-01-05-2016-808
END:VEVENT

END:VCALENDAR
