BEGIN:VCALENDAR
VERSION:2.0
PRODID:-//ChamberMaster//Event Calendar 2.0//EN
METHOD:PUBLISH
X-PUBLISHED-TTL:P3D
REFRESH-INTERVAL:P3D
CALSCALE:GREGORIAN
BEGIN:VEVENT
DTSTART:20180110T013000Z
DTEND:20180110T023000Z
X-MICROSOFT-CDO-ALLDAYEVENT:FALSE
SUMMARY:Ambassador Meeting
DESCRIPTION:Ambassador Meeting
X-ALT-DESC;FMTTYPE=text/html:Ambassador Meeting
LOCATION:Cambalache Grill 8780 Warner Ave.\, #15 Fountain Valley
UID:e.2030.832
SEQUENCE:3
DTSTAMP:20260424T072318Z
URL:http://business.fvchamber.com/events/details/ambassador-meeting-01-02-2018-832
END:VEVENT

END:VCALENDAR
