BEGIN:VCALENDAR
VERSION:2.0
PRODID:-//ChamberMaster//Event Calendar 2.0//EN
METHOD:PUBLISH
X-PUBLISHED-TTL:P3D
REFRESH-INTERVAL:P3D
CALSCALE:GREGORIAN
BEGIN:VEVENT
DTSTART:20190109T013000Z
DTEND:20190109T023000Z
X-MICROSOFT-CDO-ALLDAYEVENT:FALSE
SUMMARY:Ambassador Meeting
DESCRIPTION:Ambassador Meeting
X-ALT-DESC;FMTTYPE=text/html:Ambassador Meeting
LOCATION:Fortune Cookies 18774 Brookhurst St. Fountain Valley
UID:e.2030.844
SEQUENCE:3
DTSTAMP:20260423T131808Z
URL:http://business.fvchamber.com/events/details/ambassador-meeting-01-01-2019-844
END:VEVENT

END:VCALENDAR
