BEGIN:VCALENDAR
VERSION:2.0
PRODID:-//ChamberMaster//Event Calendar 2.0//EN
METHOD:PUBLISH
X-PUBLISHED-TTL:P3D
REFRESH-INTERVAL:P3D
CALSCALE:GREGORIAN
BEGIN:VEVENT
DTSTART:20171004T003000Z
DTEND:20171004T013000Z
X-MICROSOFT-CDO-ALLDAYEVENT:FALSE
SUMMARY:Ambassador - Board Bowling Event
DESCRIPTION:Board of Directors and Ambassadors Bowling Event\n\n\n\nNext Ambassador Meeting will be Tuesday\, November 7th
X-ALT-DESC;FMTTYPE=text/html:<span style="font-size:16px\;"><strong>Board of Directors and Ambassadors Bowling Event</strong></span><br />\n<br />\nNext Ambassador Meeting will be Tuesday\, November 7th
LOCATION:Fountain Bowl 17110 Brookhurst St. Fountain Valley
UID:e.2030.829
SEQUENCE:3
DTSTAMP:20260424T125058Z
URL:http://business.fvchamber.com/events/details/ambassador-board-bowling-event-829
END:VEVENT

END:VCALENDAR
