BEGIN:VCALENDAR
VERSION:2.0
PRODID:-//ChamberMaster//Event Calendar 2.0//EN
METHOD:PUBLISH
X-PUBLISHED-TTL:P3D
REFRESH-INTERVAL:P3D
CALSCALE:GREGORIAN
BEGIN:VEVENT
DTSTART:20160727T220000Z
DTEND:20160728T000000Z
X-MICROSOFT-CDO-ALLDAYEVENT:FALSE
SUMMARY:All-in Productions Casino Rentals Grand Opening / Ribbon Cutting
DESCRIPTION:Grand Opening / Ribbon Cutting\n\nAll-in Productions Casino Rentals
X-ALT-DESC;FMTTYPE=text/html:<strong><span style="font-size:16px\;">Grand Opening / Ribbon Cutting</span><br />\n<span style="font-size:18px\;">All-in Productions Casino Rentals</span></strong>
LOCATION:11233 Slater Ave. Fountain Valley
UID:e.2030.2812
SEQUENCE:3
DTSTAMP:20260425T112320Z
URL:http://business.fvchamber.com/events/details/all-in-productions-casino-rentals-grand-opening-ribbon-cutting-07-27-2016-2812
END:VEVENT

END:VCALENDAR
