BEGIN:VCALENDAR
VERSION:2.0
PRODID:-//ChamberMaster//Event Calendar 2.0//EN
METHOD:PUBLISH
X-PUBLISHED-TTL:P3D
REFRESH-INTERVAL:P3D
CALSCALE:GREGORIAN
BEGIN:VEVENT
DTSTART:20150904T003000Z
DTEND:20150904T023000Z
X-MICROSOFT-CDO-ALLDAYEVENT:FALSE
SUMMARY:After Hours Mixer Hosted by Factory eNova
DESCRIPTION:After Hours Mixer \n\nCocktails * Conversations * Connections\n\n\n\nHosted by Factory eNova
X-ALT-DESC;FMTTYPE=text/html:<br />\n<strong><span style="color: rgb(20\, 24\, 35)\; font-family: helvetica\, arial\, sans-serif\; font-size: 14px\; line-height: 20.844446182251px\;">After Hours Mixer&nbsp\;</span></strong><br style="color: rgb(20\, 24\, 35)\; font-family: helvetica\, arial\, sans-serif\; font-size: 14px\; line-height: 20.844446182251px\;" />\n<strong><span style="color: rgb(20\, 24\, 35)\; font-family: helvetica\, arial\, sans-serif\; font-size: 14px\; line-height: 20.844446182251px\;">Cocktails * Conversations * Connections</span></strong><br style="color: rgb(20\, 24\, 35)\; font-family: helvetica\, arial\, sans-serif\; font-size: 14px\; line-height: 20.844446182251px\;" />\n<br style="color: rgb(20\, 24\, 35)\; font-family: helvetica\, arial\, sans-serif\; font-size: 14px\; line-height: 20.844446182251px\;" />\n<span style="color: rgb(20\, 24\, 35)\; font-family: helvetica\, arial\, sans-serif\; font-size: 14px\; line-height: 20.844446182251px\;">Hosted by Factory eNova</span>
LOCATION:Factory eNova 16540 Harbor Blvd. Fountain Valley\, CA 92708
UID:e.2030.2152
SEQUENCE:3
DTSTAMP:20260426T030450Z
URL:http://business.fvchamber.com/events/details/after-hours-mixer-hosted-by-factory-enova-09-03-2015-2152
END:VEVENT

END:VCALENDAR
